BEGIN:VCALENDAR
VERSION:2.0
PRODID:-//International Coaching &amp; Leadership Institute Rising (ICLI RISING) - ECPv6.15.20//NONSGML v1.0//EN
CALSCALE:GREGORIAN
METHOD:PUBLISH
X-WR-CALNAME:International Coaching &amp; Leadership Institute Rising (ICLI RISING)
X-ORIGINAL-URL:https://iclirising.com
X-WR-CALDESC:Events for International Coaching &amp; Leadership Institute Rising (ICLI RISING)
REFRESH-INTERVAL;VALUE=DURATION:PT1H
X-Robots-Tag:noindex
X-PUBLISHED-TTL:PT1H
BEGIN:VTIMEZONE
TZID:America/New_York
BEGIN:DAYLIGHT
TZOFFSETFROM:-0500
TZOFFSETTO:-0400
TZNAME:EDT
DTSTART:20250309T070000
END:DAYLIGHT
BEGIN:STANDARD
TZOFFSETFROM:-0400
TZOFFSETTO:-0500
TZNAME:EST
DTSTART:20251102T060000
END:STANDARD
BEGIN:DAYLIGHT
TZOFFSETFROM:-0500
TZOFFSETTO:-0400
TZNAME:EDT
DTSTART:20260308T070000
END:DAYLIGHT
BEGIN:STANDARD
TZOFFSETFROM:-0400
TZOFFSETTO:-0500
TZNAME:EST
DTSTART:20261101T060000
END:STANDARD
BEGIN:DAYLIGHT
TZOFFSETFROM:-0500
TZOFFSETTO:-0400
TZNAME:EDT
DTSTART:20270314T070000
END:DAYLIGHT
BEGIN:STANDARD
TZOFFSETFROM:-0400
TZOFFSETTO:-0500
TZNAME:EST
DTSTART:20271107T060000
END:STANDARD
END:VTIMEZONE
BEGIN:VEVENT
DTSTART;TZID=America/New_York:20260611T090000
DTEND;TZID=America/New_York:20260627T170000
DTSTAMP:20260424T204649
CREATED:20260413T005303Z
LAST-MODIFIED:20260413T005303Z
UID:790073-1781168400-1782579600@iclirising.com
SUMMARY:Expert Coach Immersion-Intensive (ECI-I) Program
DESCRIPTION:This ICF Level 1 program prepares coaches to apply for the Associate Certified Coach (ACC) credential. No prerequisite is required. \n\n\n\nProgram Features\n\n\n\n\n\n\n72 Hours of Training \nICF Core Competencies\nBusiness 101 Tools \nCoaching Practicums \nMarketing Templates\n\n\n\n\nNiche Identifications\n10 Hours Mentor Coaching\nLive Coaching Demos\nSubject-Matter-Expert Lectures\n\n\n\n\n\n \nMeet With Enrollment\n \n\nThe Expert Coach Immersion-Intensive (ECI-I) Program\, presented by ICLI RISING\, the International Coaching & Leadership Institute RISING\, is an essential program designed to refine the abilities of both new and experienced coaches. Over the span of three weeks\, this 72-hour intensive training delves deeply into the ICF Core Competencies and the Code of Ethics. \n\n\n\nThe program offers a comprehensive journey that includes essential Business 101 Tools\, coaching practicums\, and niche identification. Additionally\, participants benefit from marketing templates and 10 hours of mentor coaching\, ensuring they have the tools and knowledge necessary for a successful coaching practice. Live coaching demonstrations and lectures from subject-matter experts provide practical insights and real-world applications. \n\n\n\nICLI RISING’s education approach is built on a three-pronged model focusing on Leadership\, Ownership\, and Accountability. This framework is crucial for teaching resilient leadership and establishing a robust business infrastructure\, empowering coaches to effectively support individuals and corporate teams. Our ICF-credentialed coaches and facilitation experts are passionate about fostering transformation and leadership growth\, offering extensive feedback on implementing ICF’s core competencies. The ECI-I Program by ICLI RISING transcends traditional training\, preparing participants to emerge as certified coaches. By concentrating not only on coaching methodologies but also on the meaningful exploration of their clients’ identities\, participants are well-equipped to make a significant impact in the coaching world and beyond. \n\n\n\n \n\n\n\nProgram Schedule\n\n\n\n\n\n	WEEK 1\nWEEK 2WEEK 3\n\n\n\n\n	Thurs.\, June 11\, 2026Thurs.\, June 18\, 2026Thurs.\, June 25\, 2026\n\n\n	Friday\, June 12\, 2026Friday\, June 19\, 2026Friday\, June 26\, 2026\n\n\n	Saturday\, June 13\, 2026Saturday\, June 20\, 2026Saturday\, June 27\, 2026\n\n\n\n\n\n \n\n\n\n\n\n \n\n\n\n 
URL:https://iclirising.com/event/expert-coach-immersion-intensive-eci-i-program-260611/
CATEGORIES:Homepage,Program,Workshop
ATTACH;FMTTYPE=image/jpeg:https://iclirising.com/wp-content/uploads/2025/12/EXPERT-COACH-IMMERSION-INTENSIVE-ECI-I-PROGRAM.jpg
END:VEVENT
BEGIN:VEVENT
DTSTART;VALUE=DATE:20260917
DTEND;VALUE=DATE:20261004
DTSTAMP:20260424T204649
CREATED:20260413T010324Z
LAST-MODIFIED:20260413T010324Z
UID:790082-1789603200-1791071999@iclirising.com
SUMMARY:Expert Coach Immersion - Extended (ECI-E)
DESCRIPTION:Program Features\nICF ACCREDITED LEVEL 2 (PCC)This ICF Level 2 program prepares coaches to apply for the Professional Certified Coach (PCC) credential. The prerequisite for this program is successful completion of our ECI-Intensive Level 1 program or an approved equivalent program.\n \n\n\n\n\n\n72 Hours of Training \nICF Core Competencies\nBusiness 101 Tools \nCoaching Practicums \nMarketing Templates\n\n\n\n\nNiche Identifications\n10 Hours Mentor Coaching\nLive Coaching Demos\nSubject-Matter-Expert Lectures\n\n\n\n\n\n \nMeet With Enrollment\n \nThe International Coaching & Leadership Institute RISING (ICLI RISING) provides certification for new and experienced coaches. Our team of training and facilitation experts are also ICF-credentialed coaches with a passion for transformation and leadership development. The curriculum is grounded in our four-pronged model of Leadership\, Ownership\, Accountability\, and Momentum approach. Students receive extensive training on the foundations of coaching\, coaching with resilient leadership\, and business infrastructure. Extending beyond just teaching “the what” of coaching to introducing techniques that assist in uncovering “the who” within their clients. This approach enables a deeper understanding and connection between coach and client. ECI-E Program students experience the hands-on application of coaching core competencies and business best practices needed to coach individuals and corporate teams. \n\n\n\n \n\n\n\nProgram Schedule\n\n\n\n\n	WEEK 1\nWEEK 2WEEK 3\n\n\n\n\n	Thurs.\, Sept. 17\, 2026Thurs.\, Sept. 24\, 2026Thursday\, Oct. 1\, 2026\n\n\n	Friday\, Sept. 18\, 2026Friday\, Sept. 25\, 2026Friday\, Oct. 2\, 2026\n\n\n	Saturday\, Sept. 19\, 2026Sat.\, Sept. 26\, 2026Saturday\, Oct. 3\, 2026\n\n\n\n\n  \n\n\n\n\n\n\n\n\n\n\n\nMeet With Enrollment
URL:https://iclirising.com/event/expert-coach-immersion-extended-eci-e-260917/
CATEGORIES:Program,Workshop
ATTACH;FMTTYPE=image/png:https://iclirising.com/wp-content/uploads/2024/11/EXPERT-COACH-IMMERSION-EXTENDED-ECI-E-PROGRAM.png
END:VEVENT
END:VCALENDAR