BEGIN:VCALENDAR
VERSION:2.0
PRODID:-//International Coaching &amp; Leadership Institute Rising (ICLI RISING) - ECPv6.15.20//NONSGML v1.0//EN
CALSCALE:GREGORIAN
METHOD:PUBLISH
X-WR-CALNAME:International Coaching &amp; Leadership Institute Rising (ICLI RISING)
X-ORIGINAL-URL:https://iclirising.com
X-WR-CALDESC:Events for International Coaching &amp; Leadership Institute Rising (ICLI RISING)
REFRESH-INTERVAL;VALUE=DURATION:PT1H
X-Robots-Tag:noindex
X-PUBLISHED-TTL:PT1H
BEGIN:VTIMEZONE
TZID:America/New_York
BEGIN:DAYLIGHT
TZOFFSETFROM:-0500
TZOFFSETTO:-0400
TZNAME:EDT
DTSTART:20220313T070000
END:DAYLIGHT
BEGIN:STANDARD
TZOFFSETFROM:-0400
TZOFFSETTO:-0500
TZNAME:EST
DTSTART:20221106T060000
END:STANDARD
BEGIN:DAYLIGHT
TZOFFSETFROM:-0500
TZOFFSETTO:-0400
TZNAME:EDT
DTSTART:20230312T070000
END:DAYLIGHT
BEGIN:STANDARD
TZOFFSETFROM:-0400
TZOFFSETTO:-0500
TZNAME:EST
DTSTART:20231105T060000
END:STANDARD
BEGIN:DAYLIGHT
TZOFFSETFROM:-0500
TZOFFSETTO:-0400
TZNAME:EDT
DTSTART:20240310T070000
END:DAYLIGHT
BEGIN:STANDARD
TZOFFSETFROM:-0400
TZOFFSETTO:-0500
TZNAME:EST
DTSTART:20241103T060000
END:STANDARD
END:VTIMEZONE
BEGIN:VEVENT
DTSTART;TZID=America/New_York:20231104T090000
DTEND;TZID=America/New_York:20231104T130000
DTSTAMP:20260424T053151
CREATED:20231030T121344Z
LAST-MODIFIED:20231030T121346Z
UID:3645-1699088400-1699102800@iclirising.com
SUMMARY:Illuminate U by Dr. Stephanie Brown
DESCRIPTION:REGISTER NOW!\n\n\n\n\n\n\n\n\nBe Guided on a Journey to GLOW UP Brighter than You Ever Have Before.\n\n\n\nThis is a day for YOU. One where you’ll be guided by women who’ve walked the same path as you and know how to navigate it without losing your mind. You’ll learn strategies for self-care that will help you achieve the next level of success while maintaining joy and ease in your life. Dr. Stephanie Brown\, PCC designed these workshops to help you to Reconnect With Your Most Authentic Self. \n\n\n\n+ Receive a GLOW box filled with Wellness products to support you physically\, mentally\, and emotionally. \n\n\n\nAll Without Leaving the Comfort of Your Home! (Or Feeling Like You’re Stuck in “Just Another” Zoom Meeting. \n\n\n\nListen— when you feel like you don’t have time for self-care\, is generally when you need it the most.\n\n\n\n\nThis event is your chance to finally make space to enjoy the abundance you’ve created in your own life.\n\n\n\nTo restore some peace\, ease\, and joy to your day-to-day existence. \n\n\n\nTo finally reconnect with yourself and feel the fulfillment that you deserve.  \n\n\n\nTo re-energize your much-depleted core…\n\n\n\nTo rekindle that inner flame that started to sputter out.\n\n\n\nTo GLOW UP and ILLUMINATE your own life brighter than it’s ever been.\n\n\n\n\nBlaze Through Barriers with Sophia Casey\, MCC\n\n\n\nUnlock self-awareness and release toxic relationships\, starting with the one you have with yourself\, in this workshop led by transformational coach Sophia Casey\, MCC. Discover the power of introspection and self-compassion to create a life filled with authentic connections and personal growth. Explore how your relationship with yourself serves as the foundation for all other connections\, offering profound insights for transforming your interactions with others. \n\n\n\n\n\n\n\n\nREGISTER NOW!
URL:https://iclirising.com/event/illuminate/
CATEGORIES:EST,Workshop
ATTACH;FMTTYPE=image/png:https://iclirising.com/wp-content/uploads/2023/10/IlluminateU.png
END:VEVENT
BEGIN:VEVENT
DTSTART;TZID=America/New_York:20231104T123500
DTEND;TZID=America/New_York:20231104T133500
DTSTAMP:20260424T053151
CREATED:20231102T161021Z
LAST-MODIFIED:20231102T161023Z
UID:3713-1699101300-1699104900@iclirising.com
SUMMARY:Reconnecting to the Human Touch: What Machines Can’t Do
DESCRIPTION:REGISTER NOW!\n\n\n\n\n\n\n\n\nDon’t miss the HURD 2023 Symposium: your path to the future at Bowie State University in Bowie MD USA!  \n\n\n\nJoin our Chief Empowerment Officer\, Sophia Casey\, MCC\, will talk about Belonging: Reconnecting to the Human Touch. What Machines Can’t Do and other dynamic conversations about AI in HR and the evolution of Diversity\, Equity\, Inclusion\, and Belonging (DEIB). Enjoy complimentary breakfast and lunch! \n\n\n\nBest part? It’s absolutely FREE! \n\n\n\nClick the button above to reserve your spot and be part of this enlightening event. Let’s shape the future of work together! See you there!
URL:https://iclirising.com/event/reconnecting-to-the-human-touch-what-machines-cant-do/
LOCATION:CSMN Beacon Room\, Bowie State University Jericho Park Road\, Bowie\, MD\, US\, Jericho Park Road\, Bowie\, Maryland\, United States
CATEGORIES:EST,Workshop
ATTACH;FMTTYPE=image/jpeg:https://iclirising.com/wp-content/uploads/2023/11/Bowie-jpg.webp
END:VEVENT
END:VCALENDAR