BEGIN:VCALENDAR
VERSION:2.0
PRODID:-//International Coaching &amp; Leadership Institute Rising (ICLI RISING) - ECPv6.15.20//NONSGML v1.0//EN
CALSCALE:GREGORIAN
METHOD:PUBLISH
X-WR-CALNAME:International Coaching &amp; Leadership Institute Rising (ICLI RISING)
X-ORIGINAL-URL:https://iclirising.com
X-WR-CALDESC:Events for International Coaching &amp; Leadership Institute Rising (ICLI RISING)
REFRESH-INTERVAL;VALUE=DURATION:PT1H
X-Robots-Tag:noindex
X-PUBLISHED-TTL:PT1H
BEGIN:VTIMEZONE
TZID:America/New_York
BEGIN:DAYLIGHT
TZOFFSETFROM:-0500
TZOFFSETTO:-0400
TZNAME:EDT
DTSTART:20220313T070000
END:DAYLIGHT
BEGIN:STANDARD
TZOFFSETFROM:-0400
TZOFFSETTO:-0500
TZNAME:EST
DTSTART:20221106T060000
END:STANDARD
BEGIN:DAYLIGHT
TZOFFSETFROM:-0500
TZOFFSETTO:-0400
TZNAME:EDT
DTSTART:20230312T070000
END:DAYLIGHT
BEGIN:STANDARD
TZOFFSETFROM:-0400
TZOFFSETTO:-0500
TZNAME:EST
DTSTART:20231105T060000
END:STANDARD
BEGIN:DAYLIGHT
TZOFFSETFROM:-0500
TZOFFSETTO:-0400
TZNAME:EDT
DTSTART:20240310T070000
END:DAYLIGHT
BEGIN:STANDARD
TZOFFSETFROM:-0400
TZOFFSETTO:-0500
TZNAME:EST
DTSTART:20241103T060000
END:STANDARD
END:VTIMEZONE
BEGIN:VEVENT
DTSTART;TZID=America/New_York:20231017T173000
DTEND;TZID=America/New_York:20231017T183000
DTSTAMP:20260424T071126
CREATED:20230929T092818Z
LAST-MODIFIED:20231003T150352Z
UID:3458-1697563800-1697567400@iclirising.com
SUMMARY:Power Play!
DESCRIPTION:REGISTER NOW!\n\n\n\n\n\n\n\n\nReady to play? \n\n\n\nReady to exercise your coaching superpowers? \n\n\n\nIt’s time to rise! \n\n\n\nJoin us for an exclusive Power Play! workshop where you’ll have the opportunity to dive deep into the world of coaching and experience our transformative coaching certification and leadership development programs firsthand. \n\n\n\nDuring this workshop\, we will provide a detailed overview of our organization\, sharing valuable insights about our methodology and approach to coaching. You’ll gain a comprehensive understanding of the skills\, tools\, and techniques that set our programs apart. \n\n\n\nBut that’s not all! We believe in the power of experiential learning\, so we’ve prepared interactive demo sessions where you can get a taste of what our coach training is like. This unique opportunity will allow you to witness the magic of coaching in action\, as our ICF-credentialed instructors guide you through coaching demonstrations and invite you to get hands-on experience using our tools and techniques. \n\n\n\nWhether you’re a seasoned professional looking to enhance your coaching skills or someone who is just beginning their journey in this field\, this event is perfect for you. You’ll leave with a clear understanding of our program’s value and how it can empower you to make a meaningful impact as a coach. \n\n\n\nDon’t miss out on this enlightening experience. Reserve your spot today and join us for an engaging\, informative\, and inspiring Power Play! workshop that will give you a glimpse into the transformative world of our coaching! \n\n\n\n\n\n\n\n\nREGISTER NOW!
URL:https://iclirising.com/event/power-play-101723/
CATEGORIES:EST,Info Session,Workshop
ATTACH;FMTTYPE=image/png:https://iclirising.com/wp-content/uploads/2023/09/website-101723.png
END:VEVENT
END:VCALENDAR