BEGIN:VCALENDAR
VERSION:2.0
PRODID:-//International Coaching &amp; Leadership Institute Rising (ICLI RISING) - ECPv6.15.20//NONSGML v1.0//EN
CALSCALE:GREGORIAN
METHOD:PUBLISH
X-ORIGINAL-URL:https://iclirising.com
X-WR-CALDESC:Events for International Coaching &amp; Leadership Institute Rising (ICLI RISING)
REFRESH-INTERVAL;VALUE=DURATION:PT1H
X-Robots-Tag:noindex
X-PUBLISHED-TTL:PT1H
BEGIN:VTIMEZONE
TZID:America/New_York
BEGIN:DAYLIGHT
TZOFFSETFROM:-0500
TZOFFSETTO:-0400
TZNAME:EDT
DTSTART:20220313T070000
END:DAYLIGHT
BEGIN:STANDARD
TZOFFSETFROM:-0400
TZOFFSETTO:-0500
TZNAME:EST
DTSTART:20221106T060000
END:STANDARD
BEGIN:DAYLIGHT
TZOFFSETFROM:-0500
TZOFFSETTO:-0400
TZNAME:EDT
DTSTART:20230312T070000
END:DAYLIGHT
BEGIN:STANDARD
TZOFFSETFROM:-0400
TZOFFSETTO:-0500
TZNAME:EST
DTSTART:20231105T060000
END:STANDARD
BEGIN:DAYLIGHT
TZOFFSETFROM:-0500
TZOFFSETTO:-0400
TZNAME:EDT
DTSTART:20240310T070000
END:DAYLIGHT
BEGIN:STANDARD
TZOFFSETFROM:-0400
TZOFFSETTO:-0500
TZNAME:EST
DTSTART:20241103T060000
END:STANDARD
END:VTIMEZONE
BEGIN:VEVENT
DTSTART;TZID=America/New_York:20230905T183000
DTEND;TZID=America/New_York:20230905T193000
DTSTAMP:20260424T091151
CREATED:20230828T212413Z
LAST-MODIFIED:20230829T135342Z
UID:2936-1693938600-1693942200@iclirising.com
SUMMARY:Power Play!
DESCRIPTION:REGISTER NOW!\n\n\n\n\n\n\n\n\nReady to play? \n\n\n\nReady to exercise your coaching superpowers? \n\n\n\nIt’s time to rise! \n\n\n\nJoin us for an exclusive Power Play! workshop where you’ll have the opportunity to dive deep into the world of coaching and experience our transformative coaching certification and leadership development programs firsthand. \n\n\n\nDuring this workshop\, we will provide a detailed overview of our organization\, sharing valuable insights about our methodology and approach to coaching. You’ll gain a comprehensive understanding of the skills\, tools\, and techniques that set our programs apart. \n\n\n\nBut that’s not all! We believe in the power of experiential learning\, so we’ve prepared interactive demo sessions where you can get a taste of what our coach training is like. This unique opportunity will allow you to witness the magic of coaching in action\, as our ICF-credentialed instructors guide you through coaching demonstrations and invite you to get hands-on experience using our tools and techniques. \n\n\n\nWhether you’re a seasoned professional looking to enhance your coaching skills or someone who is just beginning their journey in this field\, this event is perfect for you. You’ll leave with a clear understanding of our program’s value and how it can empower you to make a meaningful impact as a coach. \n\n\n\nDon’t miss out on this enlightening experience. Reserve your spot today and join us for an engaging\, informative\, and inspiring Power Play! workshop that will give you a glimpse into the transformative world of our coaching! \n\n\n\n\nREGISTER NOW!
URL:https://iclirising.com/event/power-play-sep-5/
CATEGORIES:EST,Info Session,Workshop
ATTACH;FMTTYPE=image/png:https://iclirising.com/wp-content/uploads/2023/08/Power-play-IG-Square.png
END:VEVENT
BEGIN:VEVENT
DTSTART;TZID=America/New_York:20230906T180000
DTEND;TZID=America/New_York:20230906T193000
DTSTAMP:20260424T091151
CREATED:20230903T102522Z
LAST-MODIFIED:20230906T105158Z
UID:2207-1694023200-1694028600@iclirising.com
SUMMARY:The Power of STAND
DESCRIPTION:Register Now\n\n\n\n\nAre you a coach who wants to take your practice to the next level? Then this webinar is for you! \n\n\n\nJoin us for a very interactive session that explores the power of “STAND”. Our speaker\, Master Certified Coach (MCC) Sophia Casey\, will guide you through live coaching demonstrations\, share the benefits of having a coach stand for you from “being”\, and challenge your assumptions. \n\n\n\nDuring this webinar\, you will: \n\n\n\n\nUnderstand the benefits of having a coach as a coach\n\n\n\nExplore different coaching styles and techniques to improve your coaching practice \n\n\n\nWitness firsthand how coaching can help you break through barriers so you can have a fulfilling coaching business\n\n\n\nLearn how accountability from “STAND” can lead to greater success in your own practice\n\n\n\nSee live coaching demonstrations to witness firsthand the impact of transformative coaching\n\n\n\n\nSo bring your real-life challenges\, goals\, and questions! Don’t miss this opportunity to take your coaching practice to the next level. Register now and discover the power of seeing coaches coaching coaches from this transformational level of STAND. \n\n\n\nCCEUs: .75 Resource Development | .75 Core Competencies \n\n\n\n\n\n\n\nMight miss it? Want to be able to watch the webinar again? Sign up to receive a replay! \n\n\n\n\nSign Up for Replay
URL:https://iclirising.com/event/stand-6923/
CATEGORIES:Webinar,Workshop
ATTACH;FMTTYPE=image/png:https://iclirising.com/wp-content/uploads/2023/09/STAND-060923.png
END:VEVENT
BEGIN:VEVENT
DTSTART;TZID=America/New_York:20230919T120000
DTEND;TZID=America/New_York:20230919T130000
DTSTAMP:20260424T091151
CREATED:20230906T125008Z
LAST-MODIFIED:20230906T125305Z
UID:3170-1695124800-1695128400@iclirising.com
SUMMARY:Power Play!
DESCRIPTION:REGISTER NOW!\n\n\n\n\n\n\n\n\nReady to play? \n\n\n\nReady to exercise your coaching superpowers? \n\n\n\nIt’s time to rise! \n\n\n\nJoin us for an exclusive Power Play! workshop where you’ll have the opportunity to dive deep into the world of coaching and experience our transformative coaching certification and leadership development programs firsthand. \n\n\n\nDuring this workshop\, we will provide a detailed overview of our organization\, sharing valuable insights about our methodology and approach to coaching. You’ll gain a comprehensive understanding of the skills\, tools\, and techniques that set our programs apart. \n\n\n\nBut that’s not all! We believe in the power of experiential learning\, so we’ve prepared interactive demo sessions where you can get a taste of what our coach training is like. This unique opportunity will allow you to witness the magic of coaching in action\, as our ICF-credentialed instructors guide you through coaching demonstrations and invite you to get hands-on experience using our tools and techniques. \n\n\n\nWhether you’re a seasoned professional looking to enhance your coaching skills or someone who is just beginning their journey in this field\, this event is perfect for you. You’ll leave with a clear understanding of our program’s value and how it can empower you to make a meaningful impact as a coach. \n\n\n\nDon’t miss out on this enlightening experience. Reserve your spot today and join us for an engaging\, informative\, and inspiring Power Play! workshop that will give you a glimpse into the transformative world of our coaching! \n\n\n\n\nREGISTER NOW!
URL:https://iclirising.com/event/power-play-91923/
CATEGORIES:EST,Info Session,Workshop
ATTACH;FMTTYPE=image/png:https://iclirising.com/wp-content/uploads/2023/09/website-091923.png
END:VEVENT
END:VCALENDAR