BEGIN:VCALENDAR
VERSION:2.0
PRODID:-//International Coaching &amp; Leadership Institute Rising (ICLI RISING) - ECPv6.15.20//NONSGML v1.0//EN
CALSCALE:GREGORIAN
METHOD:PUBLISH
X-WR-CALNAME:International Coaching &amp; Leadership Institute Rising (ICLI RISING)
X-ORIGINAL-URL:https://iclirising.com
X-WR-CALDESC:Events for International Coaching &amp; Leadership Institute Rising (ICLI RISING)
REFRESH-INTERVAL;VALUE=DURATION:PT1H
X-Robots-Tag:noindex
X-PUBLISHED-TTL:PT1H
BEGIN:VTIMEZONE
TZID:America/New_York
BEGIN:DAYLIGHT
TZOFFSETFROM:-0500
TZOFFSETTO:-0400
TZNAME:EDT
DTSTART:20220313T070000
END:DAYLIGHT
BEGIN:STANDARD
TZOFFSETFROM:-0400
TZOFFSETTO:-0500
TZNAME:EST
DTSTART:20221106T060000
END:STANDARD
BEGIN:DAYLIGHT
TZOFFSETFROM:-0500
TZOFFSETTO:-0400
TZNAME:EDT
DTSTART:20230312T070000
END:DAYLIGHT
BEGIN:STANDARD
TZOFFSETFROM:-0400
TZOFFSETTO:-0500
TZNAME:EST
DTSTART:20231105T060000
END:STANDARD
BEGIN:DAYLIGHT
TZOFFSETFROM:-0500
TZOFFSETTO:-0400
TZNAME:EDT
DTSTART:20240310T070000
END:DAYLIGHT
BEGIN:STANDARD
TZOFFSETFROM:-0400
TZOFFSETTO:-0500
TZNAME:EST
DTSTART:20241103T060000
END:STANDARD
END:VTIMEZONE
BEGIN:VEVENT
DTSTART;TZID=America/New_York:20230607T180000
DTEND;TZID=America/New_York:20230607T191500
DTSTAMP:20260424T141509
CREATED:20230525T132922Z
LAST-MODIFIED:20230526T140857Z
UID:2357-1686160800-1686165300@iclirising.com
SUMMARY:Creating More Ease: Embracing the BOTH-AND Benefits of Using AI in Your Coaching Business
DESCRIPTION:Register Now\n\n\n\n\nJoin ICLI in a conversation with AI expert Rachel See on the nuts and bolts of AI. Walk away with easy AI tools\, templates\, and strategies you can use NOW to experience more flow in your coaching business. \n\n\n\n\n\n\n\nMight miss it? Want to be able to watch the webinar again? Sign up to receive a replay! \n\n\n\n\nSign Up for Replay
URL:https://iclirising.com/event/creating-more-ease-embracing-the-both-and-benefits-of-using-ai-in-your-coaching-business/
CATEGORIES:ICLI,Workshop
ATTACH;FMTTYPE=image/png:https://iclirising.com/wp-content/uploads/2023/05/AI-Workshop-Event-Cover.png_new.png
END:VEVENT
BEGIN:VEVENT
DTSTART;TZID=America/New_York:20230608T100000
DTEND;TZID=America/New_York:20230608T113000
DTSTAMP:20260424T141509
CREATED:20230203T155607Z
LAST-MODIFIED:20230526T144801Z
UID:1896-1686218400-1686223800@iclirising.com
SUMMARY:To Thine Self Be True - 2023 Essence of Mastery Summit Workshop
DESCRIPTION:Registration is now open! Click the button below to register. Use the promocode “SOPHIA” to get a $180 discount! \n\n\n\n\nRegister Now\n\n\n\n\nWe are happy to announce that our Chief Learning Officer Sophia Casey is a Master Coach presenter on the Essence of Mastery Summit series celebrating Coaching Mastery! \n\n\n\nThe 2023 Summit features 22.5 hours all devoted to cultivating coaching mastery and kicks off June 5th-14th with Sophia and her MCC colleagues from around the world. \n\n\n\nSophia’s session will be on the topic of “To Thine Self Be True” where you get to focus on YOU! \n\n\n\n Dive deeply into an entirely new way of being so you can support your clients to feel more heard\, seen and understood. \n\n\n\n Catapult your success faster than ever before. \n\n\n\n Build your confidence so you get more clarity on how YOU best serve the world. \n\n\n\n Create community with other coaches also on the path of mastery so you never feel alone on your journey. \n\n\n\n Learn state of the art\, leading edge tools taught by world-renowned Masterful Coaches who will completely transform your coaching effectiveness. \n\n\n\n Stay inspired\, engaged and excited to get on the call with every client – no more burnout here! \n\n\n\n AND get 22.5 ICF CCEUs!!! \n\n\n\nGive yourself this gift of Essence of Mastery Summit! \n\n\n\nRegistration is open NOW! Use the promocode “SOPHIA” to get a $180 discount! \n\n\n\n\nRegister Now
URL:https://iclirising.com/event/2023-essence-of-mastery-summit/
CATEGORIES:Workshop
ATTACH;FMTTYPE=image/png:https://iclirising.com/wp-content/uploads/2023/02/EOMS-Event-Cover_new.png
END:VEVENT
END:VCALENDAR