BEGIN:VCALENDAR
VERSION:2.0
PRODID:-//International Coaching &amp; Leadership Institute Rising (ICLI RISING) - ECPv6.15.20//NONSGML v1.0//EN
CALSCALE:GREGORIAN
METHOD:PUBLISH
X-WR-CALNAME:International Coaching &amp; Leadership Institute Rising (ICLI RISING)
X-ORIGINAL-URL:https://iclirising.com
X-WR-CALDESC:Events for International Coaching &amp; Leadership Institute Rising (ICLI RISING)
REFRESH-INTERVAL;VALUE=DURATION:PT1H
X-Robots-Tag:noindex
X-PUBLISHED-TTL:PT1H
BEGIN:VTIMEZONE
TZID:America/New_York
BEGIN:DAYLIGHT
TZOFFSETFROM:-0500
TZOFFSETTO:-0400
TZNAME:EDT
DTSTART:20220313T070000
END:DAYLIGHT
BEGIN:STANDARD
TZOFFSETFROM:-0400
TZOFFSETTO:-0500
TZNAME:EST
DTSTART:20221106T060000
END:STANDARD
BEGIN:DAYLIGHT
TZOFFSETFROM:-0500
TZOFFSETTO:-0400
TZNAME:EDT
DTSTART:20230312T070000
END:DAYLIGHT
BEGIN:STANDARD
TZOFFSETFROM:-0400
TZOFFSETTO:-0500
TZNAME:EST
DTSTART:20231105T060000
END:STANDARD
BEGIN:DAYLIGHT
TZOFFSETFROM:-0500
TZOFFSETTO:-0400
TZNAME:EDT
DTSTART:20240310T070000
END:DAYLIGHT
BEGIN:STANDARD
TZOFFSETFROM:-0400
TZOFFSETTO:-0500
TZNAME:EST
DTSTART:20241103T060000
END:STANDARD
END:VTIMEZONE
BEGIN:VEVENT
DTSTART;TZID=America/New_York:20230308T180000
DTEND;TZID=America/New_York:20230308T193000
DTSTAMP:20260424T191040
CREATED:20230303T211711Z
LAST-MODIFIED:20230413T141038Z
UID:1957-1678298400-1678303800@iclirising.com
SUMMARY:SLAY the Sample Session Workshop
DESCRIPTION:Missed the workshop? No worries. Grab the replay below! \n\n\n\n\nAccess the replay\n\n\n\n\nHey Coach! \n\n\n\nAre you struggling to convert your coaching sample sessions into paying clients?  \n\n\n\nJoin our FREE workshop where I’ll share proven strategies for slaying your coaching sample sessions to get HIRED by your ideal clients. In this workshop\, you’ll learn how to create a powerful coaching sample session that showcases your expertise and resonates with your potential clients.  \n\n\n\nYou’ll also learn how to handle objections and close the session with confidence. \n\n\n\nIf you’re ready to turn your coaching sample sessions into paying clients\, then this FREE interactive workshop is for you! \n\n\n\nDon’t miss out on this opportunity to take your coaching business to the next level!
URL:https://iclirising.com/event/slay-the-sample-session-workshop/
CATEGORIES:ICLI,Workshop
ATTACH;FMTTYPE=image/png:https://iclirising.com/wp-content/uploads/2023/03/Slay-the-Sample-Session-COVER.png
END:VEVENT
END:VCALENDAR